BEGIN:VCALENDAR
VERSION:2.0
PRODID:-//ReNforce - ECPv6.15.18//NONSGML v1.0//EN
CALSCALE:GREGORIAN
METHOD:PUBLISH
X-ORIGINAL-URL:https://renforce.org
X-WR-CALDESC:Events for ReNforce
REFRESH-INTERVAL;VALUE=DURATION:PT1H
X-Robots-Tag:noindex
X-PUBLISHED-TTL:PT1H
BEGIN:VTIMEZONE
TZID:UTC
BEGIN:STANDARD
TZOFFSETFROM:+0000
TZOFFSETTO:+0000
TZNAME:UTC
DTSTART:20240101T000000
END:STANDARD
END:VTIMEZONE
BEGIN:VEVENT
DTSTART;TZID=UTC:20250806T080000
DTEND;TZID=UTC:20250831T170000
DTSTAMP:20260424T185813
CREATED:20250806T123556Z
LAST-MODIFIED:20250806T124233Z
UID:2167-1754467200-1756659600@renforce.org
SUMMARY:Careers Over Coffee | Brew A Career | This Workforce Development Month
DESCRIPTION:Careers Over Coffee\, Brew A Career\,\nThis Workforce Development Month
URL:https://renforce.org/event/careers-over-coffee-brew-a-career-this-workforce-development-month/
LOCATION:Renforce\, Inc\, 123 Jone Ave\, Augusta\, GA\, United States
CATEGORIES:August 2025,Brew A Career,Careers Oer Coffee,Workforce Development Month
ATTACH;FMTTYPE=image/jpeg:https://renforce.org/wp-content/uploads/2025/08/Careers-Over-Coffee.jpg
ORGANIZER;CN="Renforce%2C Inc":MAILTO:info@renforce.org
END:VEVENT
END:VCALENDAR