BEGIN:VCALENDAR
VERSION:2.0
PRODID:-//ReNforce - ECPv6.15.18//NONSGML v1.0//EN
CALSCALE:GREGORIAN
METHOD:PUBLISH
X-ORIGINAL-URL:https://renforce.org
X-WR-CALDESC:Events for ReNforce
REFRESH-INTERVAL;VALUE=DURATION:PT1H
X-Robots-Tag:noindex
X-PUBLISHED-TTL:PT1H
BEGIN:VTIMEZONE
TZID:UTC
BEGIN:STANDARD
TZOFFSETFROM:+0000
TZOFFSETTO:+0000
TZNAME:UTC
DTSTART:20250101T000000
END:STANDARD
END:VTIMEZONE
BEGIN:VEVENT
DTSTART;TZID=UTC:20260301T080000
DTEND;TZID=UTC:20260331T170000
DTSTAMP:20260423T204926
CREATED:20260302T163557Z
LAST-MODIFIED:20260302T163609Z
UID:2284-1772352000-1774976400@renforce.org
SUMMARY:Women Who Rise: Celebrating Women’s History Month with Stories of Strength & Second Chances
DESCRIPTION:Women Who Rise: Celebrating Women’s History Month\,\nwith Stories of Strength & Second Chances\nDiversifying the Workforce\, MARCH 2026 Participant\,\n \n  \n 
URL:https://renforce.org/event/women-who-rise-celebrating-womens-history-month-with-stories-of-strength-second-chances/
LOCATION:RENFORCE Inc
CATEGORIES:2026 NewsLetters,Events
ATTACH;FMTTYPE=image/jpeg:https://renforce.org/wp-content/uploads/2026/03/MARCH-2026-NEWSLETTER-Cover-linked.jpg
ORGANIZER;CN="Renforce%2C Inc":MAILTO:info@renforce.org
END:VEVENT
END:VCALENDAR