BEGIN:VCALENDAR
VERSION:2.0
PRODID:-//ReNforce - ECPv6.15.18//NONSGML v1.0//EN
CALSCALE:GREGORIAN
METHOD:PUBLISH
X-WR-CALNAME:ReNforce
X-ORIGINAL-URL:https://renforce.org
X-WR-CALDESC:Events for ReNforce
REFRESH-INTERVAL;VALUE=DURATION:PT1H
X-Robots-Tag:noindex
X-PUBLISHED-TTL:PT1H
BEGIN:VTIMEZONE
TZID:UTC
BEGIN:STANDARD
TZOFFSETFROM:+0000
TZOFFSETTO:+0000
TZNAME:UTC
DTSTART:20240101T000000
END:STANDARD
END:VTIMEZONE
BEGIN:VEVENT
DTSTART;TZID=UTC:20250218T123000
DTEND;TZID=UTC:20250218T140000
DTSTAMP:20260423T230514
CREATED:20250212T232956Z
LAST-MODIFIED:20250213T214412Z
UID:2025-1739881800-1739887200@renforce.org
SUMMARY:LunchBreak For The Soul
DESCRIPTION:Join Here\nBring your lunch\, your voice\, and your energy as we dive into:\nJoin LunchBreak For The Soul Here!\n✨ Cultivating meaningful connections\n✨ Overcoming barriers in unsupportive spaces\n✨ The power of peer support and shared experiences\n💛 Let’s nourish our minds\, hearts\, and communities—together.\n📅 Feb. 18\, 2025 (12:30-1:45 PM)
URL:https://renforce.org/event/lunchbreak-for-the-soul/
LOCATION:Virtual
CATEGORIES:Events,LunchBreak For The Soul
ATTACH;FMTTYPE=image/jpeg:https://renforce.org/wp-content/uploads/2025/02/LunchBreak-3.jpg
ORGANIZER;CN="Renforce%2C Inc":MAILTO:info@renforce.org
END:VEVENT
BEGIN:VEVENT
DTSTART;TZID=UTC:20250214T060000
DTEND;TZID=UTC:20250214T180000
DTSTAMP:20260423T230514
CREATED:20250213T002943Z
LAST-MODIFIED:20250213T214212Z
UID:2042-1739512800-1739556000@renforce.org
SUMMARY:6 Black-Owned Business @ the Forefront of Criminal Justice Reform
DESCRIPTION:6 Black-Owned Business\n@ the Forefront of Criminal Justice Reform\n\n  \nHappy Valentine 2025 !!
URL:https://renforce.org/event/6-black-owned-business-the-forefront-of-criminal-justice-reform/
CATEGORIES:Criminal Justice Reform,Events
ATTACH;FMTTYPE=image/jpeg:https://renforce.org/wp-content/uploads/2025/02/6-Black-Owned-Businesses-Page1.jpg
END:VEVENT
BEGIN:VEVENT
DTSTART;TZID=UTC:20250121T123000
DTEND;TZID=UTC:20250121T140000
DTSTAMP:20260423T230514
CREATED:20250111T020242Z
LAST-MODIFIED:20250111T021442Z
UID:1967-1737462600-1737468000@renforce.org
SUMMARY:Lunch Break For The Soul
DESCRIPTION:Join us for Lunch Break for the Soul\, a Midday Mental Reset initiative designed to support the holistic wellness of system-impacted BIPOC women. Each month\, we’ll create a safe\, supportive space for community-centered discussions\, skill-building activities\, and culturally responsive practices aimed at addressing the unique mental\, emotional\, and physical challenges faced by BIPOC women impacted by systemic racism\, gender-based discrimination\, the legal system\, and socio-economic barriers.
URL:https://renforce.org/event/lunch-break-for-the-soul/
CATEGORIES:Events
ATTACH;FMTTYPE=image/jpeg:https://renforce.org/wp-content/uploads/2025/01/January-2025-Lunchbreak-for-the-Soul-Series-1-scaled.jpg
ORGANIZER;CN="Renforce%2C Inc":MAILTO:info@renforce.org
END:VEVENT
BEGIN:VEVENT
DTSTART;TZID=UTC:20250117T100000
DTEND;TZID=UTC:20250117T160000
DTSTAMP:20260423T230514
CREATED:20250114T045936Z
LAST-MODIFIED:20250114T045936Z
UID:1982-1737108000-1737129600@renforce.org
SUMMARY:Grand Opening January 17th\, 2025
DESCRIPTION:Grand Opening January 17th\, 2025 \nYou are cordially invited to attend the ribbon cutting and grand opening celebration for our new workforce training center located in downtown Augusta\, GA.\n630 Ellis St.\, Suite 21\nPhone: 833-273-6367\nrenforce.org
URL:https://renforce.org/event/grand-opening-january-17th-2025-2/
LOCATION:RENFORCE Inc
CATEGORIES:Events
ATTACH;FMTTYPE=image/jpeg:https://renforce.org/wp-content/uploads/2025/01/Grand-Opening.jpg
END:VEVENT
END:VCALENDAR