BEGIN:VCALENDAR
VERSION:2.0
PRODID:-//ReNforce - ECPv6.15.18//NONSGML v1.0//EN
CALSCALE:GREGORIAN
METHOD:PUBLISH
X-WR-CALNAME:ReNforce
X-ORIGINAL-URL:https://renforce.org
X-WR-CALDESC:Events for ReNforce
REFRESH-INTERVAL;VALUE=DURATION:PT1H
X-Robots-Tag:noindex
X-PUBLISHED-TTL:PT1H
BEGIN:VTIMEZONE
TZID:UTC
BEGIN:STANDARD
TZOFFSETFROM:+0000
TZOFFSETTO:+0000
TZNAME:UTC
DTSTART:20250101T000000
END:STANDARD
END:VTIMEZONE
BEGIN:VEVENT
DTSTART;TZID=UTC:20260202T080000
DTEND;TZID=UTC:20260228T170000
DTSTAMP:20260423T080930
CREATED:20260202T164219Z
LAST-MODIFIED:20260202T164328Z
UID:2277-1770019200-1772298000@renforce.org
SUMMARY:The Power of Persistence: Celebrating Progress\, Honoring Resilience During Black History Month
DESCRIPTION:The Power of Persistence: Celebrating\nProgress\, Honoring Resilience During\nBlack History Month\n \n 
URL:https://renforce.org/event/the-power-of-persistence-celebrating-progress-honoring-resilience-during-black-history-month/
LOCATION:RENFORCE Inc
CATEGORIES:Events,February Newsletter,Newsletter
ATTACH;FMTTYPE=image/jpeg:https://renforce.org/wp-content/uploads/2026/02/linked-FEBRUARY-2026-NEWSLETTER_Page_1.jpg
ORGANIZER;CN="Renforce%2C Inc":MAILTO:info@renforce.org
END:VEVENT
END:VCALENDAR